BEGIN:VCALENDAR
VERSION:2.0
PRODID:-//Wicklow Uplands - ECPv6.13.2.1//NONSGML v1.0//EN
CALSCALE:GREGORIAN
METHOD:PUBLISH
X-ORIGINAL-URL:https://wicklowuplands.ie
X-WR-CALDESC:Events for Wicklow Uplands
REFRESH-INTERVAL;VALUE=DURATION:PT1H
X-Robots-Tag:noindex
X-PUBLISHED-TTL:PT1H
BEGIN:VTIMEZONE
TZID:UTC
BEGIN:STANDARD
TZOFFSETFROM:+0000
TZOFFSETTO:+0000
TZNAME:UTC
DTSTART:20180101T000000
END:STANDARD
END:VTIMEZONE
BEGIN:VEVENT
DTSTART;TZID=UTC:20180329T200000
DTEND;TZID=UTC:20180329T220000
DTSTAMP:20260425T134900
CREATED:20180319T113954Z
LAST-MODIFIED:20180410T141113Z
UID:3783-1522353600-1522360800@wicklowuplands.ie
SUMMARY:'SHAPING THE FUTURE OF THE WICKLOW UPLANDS’
DESCRIPTION:‘SHAPING THE FUTURE OF THE WICKLOW UPLANDS’ \n– Panel Meeting 29th of March – \nWicklow Uplands Council takes a community led approach to sustainable development in the Wicklow Uplands in partnership with the people who live\, work and recreate there. \nWould you like to take part in the discussion? \nHosted by Wicklow Uplands Council\, this event is a joint meeting of its panel groups to provide an opportunity for networking and discussion amongst the tourism\, community\, recreation and farming sectors. \nThe evening will also feature a presentation on project updates from the Wicklow Uplands Council (including SUAS) and a presentation on the Tinahely Trails from John Mullen.\n\nEach of the 4 panel groups (listed below) will break into individual meetings to discuss relevant issues\, activities and initiatives and seek input and feedback from the panel representatives. \nCommunity Panel \nEconomic and Tourism Panel \nEnvironment and Recreation Panel \nFarming and Landowning Panel \nThe key objectives of the meeting are: \n– To provide an opportunity for networking and discussion amongst the tourism\, community\, recreation and farming sectors. \n-To identify opportunities to strengthen each of these sectors. \n– To discuss ‘live’ issues within the panels and look at ways in which Wicklow Uplands Council can assist member organisations and individuals. \nIf you are interested in coming along please RSVP to info@wicklowuplands.ie or ph: 01 2818406. \nNew members are always welcome and you can sign up on the night. \nCommunity Participation: \nThe Uplands Council believes that the people who live\, work and recreate in the Uplands must be provided with opportunities to participate in the various local\, regional and national decision making processes affecting the area. The Council represents the views of the local people and presents their case to the statutory decision makers.
URL:https://wicklowuplands.ie/event/shaping-the-future-of-the-wicklow-uplands/
LOCATION:Court House Arts Centre\, Tinahely\, Dwyer Square\, Ballinacor\,\, Tinahely\, Wicklow\, Ireland
ORGANIZER;CN="Wicklow Uplands Council":MAILTO:info@wicklowuplands.ie
END:VEVENT
END:VCALENDAR